BEGIN:VCALENDAR
VERSION:2.0
PRODID:-//Jon Lee - ECPv6.15.13.1//NONSGML v1.0//EN
CALSCALE:GREGORIAN
METHOD:PUBLISH
X-WR-CALNAME:Jon Lee
X-ORIGINAL-URL:https://jonleetunes.com
X-WR-CALDESC:Events for Jon Lee
REFRESH-INTERVAL;VALUE=DURATION:PT1H
X-Robots-Tag:noindex
X-PUBLISHED-TTL:PT1H
BEGIN:VTIMEZONE
TZID:America/Los_Angeles
BEGIN:DAYLIGHT
TZOFFSETFROM:-0800
TZOFFSETTO:-0700
TZNAME:PDT
DTSTART:20230312T100000
END:DAYLIGHT
BEGIN:STANDARD
TZOFFSETFROM:-0700
TZOFFSETTO:-0800
TZNAME:PST
DTSTART:20231105T090000
END:STANDARD
BEGIN:DAYLIGHT
TZOFFSETFROM:-0800
TZOFFSETTO:-0700
TZNAME:PDT
DTSTART:20240310T100000
END:DAYLIGHT
BEGIN:STANDARD
TZOFFSETFROM:-0700
TZOFFSETTO:-0800
TZNAME:PST
DTSTART:20241103T090000
END:STANDARD
BEGIN:DAYLIGHT
TZOFFSETFROM:-0800
TZOFFSETTO:-0700
TZNAME:PDT
DTSTART:20250309T100000
END:DAYLIGHT
BEGIN:STANDARD
TZOFFSETFROM:-0700
TZOFFSETTO:-0800
TZNAME:PST
DTSTART:20251102T090000
END:STANDARD
END:VTIMEZONE
BEGIN:VEVENT
DTSTART;TZID=America/Los_Angeles:20241020T170000
DTEND;TZID=America/Los_Angeles:20241020T200000
DTSTAMP:20260421T032431
CREATED:20240825T183043Z
LAST-MODIFIED:20240902T014146Z
UID:10000005-1729443600-1729454400@jonleetunes.com
SUMMARY:Castaway's
DESCRIPTION:
URL:https://jonleetunes.com/event/castaway/
LOCATION:Castaway’s Seafood Grille\, 207 Pacific Avenue\, Long Beach\, WA\, 98631\, United States
ATTACH;FMTTYPE=image/jpeg:https://jonleetunes.com/wp-content/uploads/2024/08/jon_lee_live1.jpg
ORGANIZER;CN="Jon Lee":MAILTO:info@jonleetunes.com
END:VEVENT
END:VCALENDAR